BEGIN:VCALENDAR
VERSION:2.0
PRODID:-//wp-events-plugin.com//7.2.3.1//EN
TZID:Australia/Melbourne
X-WR-TIMEZONE:Australia/Melbourne
BEGIN:VEVENT
UID:602@frankstoncityband.com.au
DTSTART;TZID=Australia/Melbourne:20180915T183000
DTEND;TZID=Australia/Melbourne:20180915T223000
DTSTAMP:20180909T081526Z
URL:https://www.frankstoncityband.com.au/events/latrobe-valley-eisteddfod-
 brass-solos-and-ensembles
SUMMARY:Latrobe Valley Eisteddfod - Brass Solos and Ensembles - Latrobe Cit
 y Performing Arts Centre - 15 Sep 18 18:30
DESCRIPTION:We have some members competing in the Brass Solo sections at th
 e Latrobe Valley Eisteddfod on Saturday September 15. If you would like to
  come to listen and support those participating\nMichelle\, Sam\, Kevin & 
 Josh will be playing \n
LOCATION:Latrobe City Performing Arts Centre\, 53 Grey Street\, Traralgon\,
  Victoria\, 3844\, Australia
GEO:-38.193;146.535
X-APPLE-STRUCTURED-LOCATION;VALUE=URI;X-ADDRESS=53 Grey Street\, Traralgon\
 , Victoria\, 3844\, Australia;X-APPLE-RADIUS=100;X-TITLE=Latrobe City Perf
 orming Arts Centre:geo:-38.193,146.535
END:VEVENT
BEGIN:VTIMEZONE
TZID:Australia/Melbourne
X-LIC-LOCATION:Australia/Melbourne
BEGIN:STANDARD
DTSTART:20180401T020000
TZOFFSETFROM:+1100
TZOFFSETTO:+1000
TZNAME:AEST
END:STANDARD
END:VTIMEZONE
END:VCALENDAR